BEGIN:VCALENDAR
VERSION:2.0
PRODID:-//Tukios.com/
BEGIN:VEVENT
UID:5ef4bab9-621d-419d-9a0d-129dc2d66b6f@www.memorialfuneralhomes.com
DTSTAMP:20260420T215807Z
DTSTART:20260425T203000Z
DTEND:20260425T213000Z
SUMMARY:Interment
DESCRIPTION:
URL:https://www.memorialfuneralhomes.com/obituaries/ora-sumlin
LOCATION:Point Pleasant Cemetery Point Pleasant Road  Homer LA 71040
GEO:32.6890759;-92.9669867
END:VEVENT
END:VCALENDAR