BEGIN:VCALENDAR
VERSION:2.0
PRODID:-//Tukios.com/
BEGIN:VEVENT
UID:565aaa16-93ba-4d5c-84df-74837721ec3c@www.memorialfuneralhomes.com
DTSTAMP:20260420T215138Z
DTSTART:20260425T193000Z
DTEND:20260425T203000Z
SUMMARY:Funeral Service
DESCRIPTION:
URL:https://www.memorialfuneralhomes.com/obituaries/ora-sumlin
LOCATION:Point Pleasant CME Church 460 Point Pleasant Road  Homer LA 
	71040
GEO:32.68745;-92.97172
END:VEVENT
END:VCALENDAR