BEGIN:VCALENDAR
VERSION:2.0
PRODID:-//Tukios.com/
BEGIN:VEVENT
UID:d96334d2-f6c8-4099-9676-c46f91ebbe70@www.memorialfuneralhomes.com
DTSTAMP:20260420T215205Z
DTSTART:20260424T180000Z
DTEND:20260424T230000Z
SUMMARY:Visitation
DESCRIPTION:
URL:https://www.memorialfuneralhomes.com/obituaries/ora-sumlin
LOCATION:Memorial Funeral Home - Homer 4043 Highway 79  Homer LA 71040
GEO:32.7777692;-93.0714428
END:VEVENT
END:VCALENDAR