BEGIN:VCALENDAR
VERSION:2.0
PRODID:-//Tukios.com/
BEGIN:VEVENT
UID:31ffe3c3-2e75-4d56-84a4-010efadcc790@www.memorialfuneralhomes.com
DTSTAMP:20260420T215654Z
DTSTART:20260424T200000Z
DTEND:20260424T220000Z
SUMMARY:Visitation
DESCRIPTION:
URL:https://www.memorialfuneralhomes.com/obituaries/msvirginia-cain
LOCATION:Memorial Funeral Home - Cullen 422 Pine Street  Cullen LA 71021
GEO:32.9744792;-93.4535757
END:VEVENT
END:VCALENDAR