BEGIN:VCALENDAR
VERSION:2.0
PRODID:-//Tukios.com/
BEGIN:VEVENT
UID:4ce3a5a7-0879-4ca7-ab61-9fdc9ec451f9@www.memorialfuneralhomes.com
DTSTAMP:20260422T193521Z
DTSTART:20260502T163000Z
DTEND:20260502T170000Z
SUMMARY:Interment
DESCRIPTION:
URL:https://www.memorialfuneralhomes.com/obituaries/mrs-betty-weathers
LOCATION: 1907 Tucker Street  Ringgold LA 71068
GEO:32.3315655;-93.2891156
END:VEVENT
END:VCALENDAR