BEGIN:VCALENDAR
VERSION:2.0
PRODID:-//Tukios.com/
BEGIN:VEVENT
UID:6e9bb562-3425-4219-bfe8-bea5e2ccf479@www.memorialfuneralhomes.com
DTSTAMP:20260422T192847Z
DTSTART:20260501T190000Z
DTEND:20260501T220000Z
SUMMARY:Visitation
DESCRIPTION:
URL:https://www.memorialfuneralhomes.com/obituaries/mrs-betty-weathers
LOCATION: 1907 Tucker Street  Ringgold LA 71068
GEO:32.3315655;-93.2891156
END:VEVENT
END:VCALENDAR