BEGIN:VCALENDAR
VERSION:2.0
PRODID:-//Tukios.com/
BEGIN:VEVENT
UID:cadcf495-39ca-46bd-854d-4a33e5128b47@www.memorialfuneralhomes.com
DTSTAMP:20260422T192503Z
DTSTART:20260502T153000Z
DTEND:20260502T163000Z
SUMMARY:Funeral Service
DESCRIPTION:
URL:https://www.memorialfuneralhomes.com/obituaries/mrs-betty-weathers
LOCATION: 1612 Pine Bluff Rd.  Ringgold LA 71068
GEO:32.3519205;-93.3373119
END:VEVENT
END:VCALENDAR