BEGIN:VCALENDAR
VERSION:2.0
PRODID:-//Tukios.com/
BEGIN:VEVENT
UID:1256d74a-2bed-4166-bc56-75854d35f7ee@www.memorialfuneralhomes.com
DTSTAMP:20260422T032549Z
DTSTART:20260425T153000Z
DTEND:20260425T170000Z
SUMMARY:Funeral Service
DESCRIPTION:
URL:https://www.memorialfuneralhomes.com/obituaries/mother-ida-manning
LOCATION: Hwy 79 Hwy 79 Homer LA 71038
GEO:32.9450975;-93.1204702
END:VEVENT
END:VCALENDAR