BEGIN:VCALENDAR
VERSION:2.0
PRODID:-//Tukios.com/
BEGIN:VEVENT
UID:ca86d781-7d03-4207-bd85-7ce2442d1525@www.memorialfuneralhomes.com
DTSTAMP:20260420T215411Z
DTSTART:20260430T190000Z
DTEND:20260430T200000Z
SUMMARY:Interment
DESCRIPTION:
URL:https://www.memorialfuneralhomes.com/obituaries/james-jr
LOCATION:Concord Cemetery Concord Road  Marion LA 71260
GEO:32.9002971;-92.2531934
END:VEVENT
END:VCALENDAR