BEGIN:VCALENDAR
VERSION:2.0
PRODID:-//Tukios.com/
BEGIN:VEVENT
UID:97c0638f-ea32-4045-a729-fed4cd92cc11@www.memorialfuneralhomes.com
DTSTAMP:20260420T214937Z
DTSTART:20260429T230000Z
DTEND:20260430T000000Z
SUMMARY:Funeral Service
DESCRIPTION:
URL:https://www.memorialfuneralhomes.com/obituaries/james-jr
LOCATION:Memorial Funeral Home - Farmerville 701 Martin Luther King 
	Street  Farmerville LA 71241
GEO:32.7675291;-92.4041028
END:VEVENT
END:VCALENDAR